BEGIN:VCALENDAR
VERSION:2.0
PRODID:-//feest met bertje en frank - ECPv6.15.20//NONSGML v1.0//EN
CALSCALE:GREGORIAN
METHOD:PUBLISH
X-WR-CALNAME:feest met bertje en frank
X-ORIGINAL-URL:https://feestmetbertjeenfrank.nl
X-WR-CALDESC:Evenementen voor feest met bertje en frank
REFRESH-INTERVAL;VALUE=DURATION:PT1H
X-Robots-Tag:noindex
X-PUBLISHED-TTL:PT1H
BEGIN:VTIMEZONE
TZID:UTC
BEGIN:STANDARD
TZOFFSETFROM:+0000
TZOFFSETTO:+0000
TZNAME:UTC
DTSTART:20250101T000000
END:STANDARD
END:VTIMEZONE
BEGIN:VEVENT
DTSTART;TZID=UTC:20260628T121100
DTEND;TZID=UTC:20260628T170000
DTSTAMP:20260421T093106
CREATED:20260419T184758Z
LAST-MODIFIED:20260419T184758Z
UID:546-1782648660-1782666000@feestmetbertjeenfrank.nl
SUMMARY:Lampegats Koningsschieten
DESCRIPTION:
URL:https://feestmetbertjeenfrank.nl/waarzijnwetevinden/lampegats-koningsschieten/
END:VEVENT
BEGIN:VEVENT
DTSTART;TZID=UTC:20261010T210000
DTEND;TZID=UTC:20261011T010000
DTSTAMP:20260421T093106
CREATED:20260419T185040Z
LAST-MODIFIED:20260419T185040Z
UID:550-1791666000-1791680400@feestmetbertjeenfrank.nl
SUMMARY:Jubileum De Zotte Zwanen
DESCRIPTION:
URL:https://feestmetbertjeenfrank.nl/waarzijnwetevinden/jubileum-de-zotte-zwanen/
END:VEVENT
BEGIN:VEVENT
DTSTART;TZID=UTC:20261106T190000
DTEND;TZID=UTC:20261107T010000
DTSTAMP:20260421T093106
CREATED:20260419T184209Z
LAST-MODIFIED:20260419T184209Z
UID:538-1793991600-1794013200@feestmetbertjeenfrank.nl
SUMMARY:Verlovingsavond Boerenvolk
DESCRIPTION:
URL:https://feestmetbertjeenfrank.nl/waarzijnwetevinden/verlovingsavond-boerenvolk/
ATTACH;FMTTYPE=image/jpeg:https://feestmetbertjeenfrank.nl/wp-content/uploads/2025/11/IMG_0014.jpeg
END:VEVENT
BEGIN:VEVENT
DTSTART;TZID=UTC:20261128T201100
DTEND;TZID=UTC:20261129T010000
DTSTAMP:20260421T093106
CREATED:20260419T183443Z
LAST-MODIFIED:20260419T183443Z
UID:526-1795896660-1795914000@feestmetbertjeenfrank.nl
SUMMARY:Prinswisseling Aagse Knuppels
DESCRIPTION:
URL:https://feestmetbertjeenfrank.nl/waarzijnwetevinden/prinswisseling-aagse-knuppels/
LOCATION:Danscentrum Verspaandonk\, Kloosterdreef 84\, Eindhoven\, 5622AB\, Netherlands
ATTACH;FMTTYPE=image/jpeg:https://feestmetbertjeenfrank.nl/wp-content/uploads/2025/09/A-New-Design_1763819397817-1.jpg
END:VEVENT
BEGIN:VEVENT
DTSTART;TZID=UTC:20261212T201100
DTEND;TZID=UTC:20261213T010000
DTSTAMP:20260421T093106
CREATED:20260419T183545Z
LAST-MODIFIED:20260419T183545Z
UID:528-1797106260-1797123600@feestmetbertjeenfrank.nl
SUMMARY:Jubileumfeest Aagse Knuppels
DESCRIPTION:
URL:https://feestmetbertjeenfrank.nl/waarzijnwetevinden/jubileumfeest-aagse-knuppels/
ATTACH;FMTTYPE=image/jpeg:https://feestmetbertjeenfrank.nl/wp-content/uploads/2025/09/A-New-Design_1763819397817-1.jpg
END:VEVENT
BEGIN:VEVENT
DTSTART;TZID=UTC:20270131T140000
DTEND;TZID=UTC:20270131T170000
DTSTAMP:20260421T093106
CREATED:20260419T184434Z
LAST-MODIFIED:20260419T184434Z
UID:542-1801404000-1801414800@feestmetbertjeenfrank.nl
SUMMARY:Stadsprins Receptie
DESCRIPTION:
URL:https://feestmetbertjeenfrank.nl/waarzijnwetevinden/stadsprins-receptie/
END:VEVENT
BEGIN:VEVENT
DTSTART;TZID=UTC:20270201T190000
DTEND;TZID=UTC:20270202T010000
DTSTAMP:20260421T093106
CREATED:20260419T184335Z
LAST-MODIFIED:20260419T184335Z
UID:540-1801508400-1801530000@feestmetbertjeenfrank.nl
SUMMARY:Vrijgezellenavond Boerenvolk
DESCRIPTION:
URL:https://feestmetbertjeenfrank.nl/waarzijnwetevinden/vrijgezellenavond-boerenvolk/
ATTACH;FMTTYPE=image/jpeg:https://feestmetbertjeenfrank.nl/wp-content/uploads/2025/11/IMG_0014.jpeg
END:VEVENT
BEGIN:VEVENT
DTSTART;TZID=UTC:20270206T123000
DTEND;TZID=UTC:20270206T170000
DTSTAMP:20260421T093106
CREATED:20260419T183629Z
LAST-MODIFIED:20260419T183629Z
UID:530-1801917000-1801933200@feestmetbertjeenfrank.nl
SUMMARY:Carnavals optocht Lampegat
DESCRIPTION:
URL:https://feestmetbertjeenfrank.nl/waarzijnwetevinden/carnavals-optocht-lampegat/
END:VEVENT
BEGIN:VEVENT
DTSTART;TZID=UTC:20270206T200000
DTEND;TZID=UTC:20270207T010000
DTSTAMP:20260421T093106
CREATED:20260419T183742Z
LAST-MODIFIED:20260419T183751Z
UID:532-1801944000-1801962000@feestmetbertjeenfrank.nl
SUMMARY:Carnaval bij De Aagse Knuppels
DESCRIPTION:
URL:https://feestmetbertjeenfrank.nl/waarzijnwetevinden/carnaval-bij-de-aagse-knuppels/
LOCATION:Danscentrum Verspaandonk\, Kloosterdreef 84\, Eindhoven\, 5622AB\, Netherlands
ATTACH;FMTTYPE=image/jpeg:https://feestmetbertjeenfrank.nl/wp-content/uploads/2025/09/A-New-Design_1763819397817-1.jpg
END:VEVENT
BEGIN:VEVENT
DTSTART;TZID=UTC:20270207T141100
DTEND;TZID=UTC:20270207T170000
DTSTAMP:20260421T093106
CREATED:20260419T183859Z
LAST-MODIFIED:20260419T183859Z
UID:534-1802009460-1802019600@feestmetbertjeenfrank.nl
SUMMARY:Kindercarnaval bij de Aagse Knuppels
DESCRIPTION:
URL:https://feestmetbertjeenfrank.nl/waarzijnwetevinden/kindercarnaval-bij-de-aagse-knuppels/
ATTACH;FMTTYPE=image/jpeg:https://feestmetbertjeenfrank.nl/wp-content/uploads/2025/09/A-New-Design_1763819397817.jpg
END:VEVENT
BEGIN:VEVENT
DTSTART;TZID=UTC:20270207T201100
DTEND;TZID=UTC:20270208T010000
DTSTAMP:20260421T093106
CREATED:20260419T183959Z
LAST-MODIFIED:20260419T183959Z
UID:536-1802031060-1802048400@feestmetbertjeenfrank.nl
SUMMARY:Knuppelbal bij De Aagse Knuppels
DESCRIPTION:
URL:https://feestmetbertjeenfrank.nl/waarzijnwetevinden/knuppelbal-bij-de-aagse-knuppels/
LOCATION:Danscentrum Verspaandonk\, Kloosterdreef 84\, Eindhoven\, 5622AB\, Netherlands
ATTACH;FMTTYPE=image/jpeg:https://feestmetbertjeenfrank.nl/wp-content/uploads/2025/09/A-New-Design_1763819397817.jpg
END:VEVENT
BEGIN:VEVENT
DTSTART;TZID=UTC:20270209T110000
DTEND;TZID=UTC:20270209T170000
DTSTAMP:20260421T093106
CREATED:20260419T184623Z
LAST-MODIFIED:20260419T184623Z
UID:544-1802170800-1802192400@feestmetbertjeenfrank.nl
SUMMARY:Boerenbruiloft + Brunch
DESCRIPTION:
URL:https://feestmetbertjeenfrank.nl/waarzijnwetevinden/boerenbruiloft-brunch/
ATTACH;FMTTYPE=image/jpeg:https://feestmetbertjeenfrank.nl/wp-content/uploads/2025/11/IMG_0014.jpeg
END:VEVENT
BEGIN:VEVENT
DTSTART;TZID=UTC:20270227T201100
DTEND;TZID=UTC:20270228T010000
DTSTAMP:20260421T093106
CREATED:20260419T184918Z
LAST-MODIFIED:20260419T184918Z
UID:548-1803759060-1803776400@feestmetbertjeenfrank.nl
SUMMARY:Halfvastenbal De Aagse Knuppels
DESCRIPTION:
URL:https://feestmetbertjeenfrank.nl/waarzijnwetevinden/halfvastenbal-de-aagse-knuppels/
LOCATION:Danscentrum Verspaandonk\, Kloosterdreef 84\, Eindhoven\, 5622AB\, Netherlands
ATTACH;FMTTYPE=image/jpeg:https://feestmetbertjeenfrank.nl/wp-content/uploads/2025/09/A-New-Design_1763819397817-1.jpg
END:VEVENT
END:VCALENDAR