BEGIN:VCALENDAR
VERSION:2.0
PRODID:-//feest met bertje en frank - ECPv6.15.20//NONSGML v1.0//EN
CALSCALE:GREGORIAN
METHOD:PUBLISH
X-WR-CALNAME:feest met bertje en frank
X-ORIGINAL-URL:https://feestmetbertjeenfrank.nl
X-WR-CALDESC:Evenementen voor feest met bertje en frank
REFRESH-INTERVAL;VALUE=DURATION:PT1H
X-Robots-Tag:noindex
X-PUBLISHED-TTL:PT1H
BEGIN:VTIMEZONE
TZID:UTC
BEGIN:STANDARD
TZOFFSETFROM:+0000
TZOFFSETTO:+0000
TZNAME:UTC
DTSTART:20240101T000000
END:STANDARD
END:VTIMEZONE
BEGIN:VEVENT
DTSTART;TZID=UTC:20260208T140000
DTEND;TZID=UTC:20260208T170000
DTSTAMP:20260421T105253
CREATED:20251122T134610Z
LAST-MODIFIED:20251122T134610Z
UID:475-1770559200-1770570000@feestmetbertjeenfrank.nl
SUMMARY:Receptie stadsprins
DESCRIPTION:
URL:https://feestmetbertjeenfrank.nl/waarzijnwetevinden/receptie-stadsprins/
END:VEVENT
BEGIN:VEVENT
DTSTART;TZID=UTC:20260131T210000
DTEND;TZID=UTC:20260201T003000
DTSTAMP:20260421T105253
CREATED:20251122T134024Z
LAST-MODIFIED:20251122T134024Z
UID:473-1769893200-1769905800@feestmetbertjeenfrank.nl
SUMMARY:C.v. Brabantia
DESCRIPTION:
URL:https://feestmetbertjeenfrank.nl/waarzijnwetevinden/c-v-brabantia/
END:VEVENT
BEGIN:VEVENT
DTSTART;TZID=UTC:20260117T210000
DTEND;TZID=UTC:20260118T003000
DTSTAMP:20260421T105253
CREATED:20251122T133910Z
LAST-MODIFIED:20251122T133910Z
UID:471-1768683600-1768696200@feestmetbertjeenfrank.nl
SUMMARY:C.v. De zotte zwanen
DESCRIPTION:
URL:https://feestmetbertjeenfrank.nl/waarzijnwetevinden/c-v-de-zotte-zwanen/
END:VEVENT
BEGIN:VEVENT
DTSTART;TZID=UTC:20260110T210000
DTEND;TZID=UTC:20260111T003000
DTSTAMP:20260421T105253
CREATED:20251122T133810Z
LAST-MODIFIED:20251122T133810Z
UID:469-1768078800-1768091400@feestmetbertjeenfrank.nl
SUMMARY:Manneke van het jaar C.v. De Tongelreepers
DESCRIPTION:
URL:https://feestmetbertjeenfrank.nl/waarzijnwetevinden/manneke-van-het-jaar-c-v-de-tongelreepers/
END:VEVENT
BEGIN:VEVENT
DTSTART;TZID=UTC:20260110T193000
DTEND;TZID=UTC:20260111T010000
DTSTAMP:20260421T105253
CREATED:20251115T115224Z
LAST-MODIFIED:20251115T115224Z
UID:454-1768073400-1768093200@feestmetbertjeenfrank.nl
SUMMARY:Liedjesfist 2026
DESCRIPTION:
URL:https://feestmetbertjeenfrank.nl/waarzijnwetevinden/liedjesfist-2026/
LOCATION:Pullman Eindhoven\, vestdijk 47\, Eindhoven\, Netherlands
ATTACH;FMTTYPE=image/png:https://feestmetbertjeenfrank.nl/wp-content/uploads/2025/11/LiedjesFist-logo-2020.png
END:VEVENT
BEGIN:VEVENT
DTSTART;TZID=UTC:20251219T210000
DTEND;TZID=UTC:20251220T003000
DTSTAMP:20260421T105253
CREATED:20251122T133635Z
LAST-MODIFIED:20251122T133635Z
UID:467-1766178000-1766190600@feestmetbertjeenfrank.nl
SUMMARY:Cv de lustige bierdrinkers
DESCRIPTION:
URL:https://feestmetbertjeenfrank.nl/waarzijnwetevinden/cv-de-lustige-bierdrinkers/
END:VEVENT
BEGIN:VEVENT
DTSTART;TZID=UTC:20251213T210000
DTEND;TZID=UTC:20251214T003000
DTSTAMP:20260421T105253
CREATED:20251122T133448Z
LAST-MODIFIED:20251122T133448Z
UID:465-1765659600-1765672200@feestmetbertjeenfrank.nl
SUMMARY:Kwakzalvers bal
DESCRIPTION:
URL:https://feestmetbertjeenfrank.nl/waarzijnwetevinden/kwakzalvers-bal/
END:VEVENT
BEGIN:VEVENT
DTSTART;TZID=UTC:20251129T210000
DTEND;TZID=UTC:20251130T003000
DTSTAMP:20260421T105253
CREATED:20251122T133134Z
LAST-MODIFIED:20251122T133134Z
UID:462-1764450000-1764462600@feestmetbertjeenfrank.nl
SUMMARY:Boerenvolk 55 jarig jubileum
DESCRIPTION:
URL:https://feestmetbertjeenfrank.nl/waarzijnwetevinden/boerenvolk-55-jarig-jubileum/
ATTACH;FMTTYPE=image/jpeg:https://feestmetbertjeenfrank.nl/wp-content/uploads/2025/11/IMG_0014.jpeg
END:VEVENT
BEGIN:VEVENT
DTSTART;TZID=UTC:20251122T200000
DTEND;TZID=UTC:20251123T003000
DTSTAMP:20260421T105253
CREATED:20250918T085335Z
LAST-MODIFIED:20251122T135254Z
UID:260-1763841600-1763857800@feestmetbertjeenfrank.nl
SUMMARY:Prins wisseling Aagse Knuppels
DESCRIPTION:
URL:https://feestmetbertjeenfrank.nl/waarzijnwetevinden/prins-wisseling-aagse-knuppels/
LOCATION:Danscentrum Verspaandonk\, Kloosterdreef 84\, Eindhoven\, 5622AB\, Netherlands
ATTACH;FMTTYPE=image/jpeg:https://feestmetbertjeenfrank.nl/wp-content/uploads/2025/09/A-New-Design_1763819397817-1.jpg
END:VEVENT
BEGIN:VEVENT
DTSTART;TZID=UTC:20251115T200000
DTEND;TZID=UTC:20251115T233000
DTSTAMP:20260421T105253
CREATED:20251013T211315Z
LAST-MODIFIED:20251013T211344Z
UID:365-1763236800-1763249400@feestmetbertjeenfrank.nl
SUMMARY:Stadsprinswisseling Skôn Orregat
DESCRIPTION:
URL:https://feestmetbertjeenfrank.nl/waarzijnwetevinden/stadsprinswisseling-skon-orregat/
END:VEVENT
BEGIN:VEVENT
DTSTART;TZID=UTC:20251114T210000
DTEND;TZID=UTC:20251115T003000
DTSTAMP:20260421T105253
CREATED:20251013T202254Z
LAST-MODIFIED:20251013T202254Z
UID:363-1763154000-1763166600@feestmetbertjeenfrank.nl
SUMMARY:Prinswisseling C.V. De Scheerkwasten
DESCRIPTION:
URL:https://feestmetbertjeenfrank.nl/waarzijnwetevinden/prinswisseling-c-v-de-scheerkwasten/
END:VEVENT
BEGIN:VEVENT
DTSTART;TZID=UTC:20251108T200000
DTEND;TZID=UTC:20251109T010000
DTSTAMP:20260421T105253
CREATED:20251013T184843Z
LAST-MODIFIED:20251013T184843Z
UID:358-1762632000-1762650000@feestmetbertjeenfrank.nl
SUMMARY:Prinsenwisseling AWC de Keien
DESCRIPTION:
URL:https://feestmetbertjeenfrank.nl/waarzijnwetevinden/prinsenwisseling-awc-de-keien/
LOCATION:Het Kooster\, Hoogstraat 8\, Waalre\, Noordbrabant\, 5581 BK\, Netherlands
END:VEVENT
BEGIN:VEVENT
DTSTART;TZID=UTC:20251101T203000
DTEND;TZID=UTC:20251102T003000
DTSTAMP:20260421T105253
CREATED:20250918T090425Z
LAST-MODIFIED:20250918T090452Z
UID:267-1762029000-1762043400@feestmetbertjeenfrank.nl
SUMMARY:Prinswisseling C.V. De Bolhoedjes
DESCRIPTION:
URL:https://feestmetbertjeenfrank.nl/waarzijnwetevinden/prinswisseling-c-v-de-bolhoedjes/
LOCATION:Pullman Eindhoven\, vestdijk 47\, Eindhoven\, Netherlands
END:VEVENT
BEGIN:VEVENT
DTSTART;TZID=UTC:20251025T203000
DTEND;TZID=UTC:20251026T003000
DTSTAMP:20260421T105253
CREATED:20250918T090129Z
LAST-MODIFIED:20250918T090129Z
UID:264-1761424200-1761438600@feestmetbertjeenfrank.nl
SUMMARY:Prinswisseling bij CV de Lichtstadnarren
DESCRIPTION:
URL:https://feestmetbertjeenfrank.nl/waarzijnwetevinden/prinswisseling-bij-cv-de-lichtstadnarren/
LOCATION:Hof van Brabant\, Boschdijk 1037\, Eindhoven\, 5626 AD\, Netherlands
END:VEVENT
BEGIN:VEVENT
DTSTART;TZID=UTC:20251018T201100
DTEND;TZID=UTC:20251019T010000
DTSTAMP:20260421T105253
CREATED:20251013T115501Z
LAST-MODIFIED:20251013T115600Z
UID:337-1760818260-1760835600@feestmetbertjeenfrank.nl
SUMMARY:Prinsen wisseling de Glijdende Bevers
DESCRIPTION:
URL:https://feestmetbertjeenfrank.nl/waarzijnwetevinden/prinsen-wisseling-de-glijdende-bevers/
LOCATION:’t Akkertje\, Heezerweg 452\, Eindhoven\, Noordbrabant\, Netherlands
END:VEVENT
END:VCALENDAR